BEGIN:VCALENDAR
VERSION:2.0
PRODID:icalendar-ruby
CALSCALE:GREGORIAN
METHOD:PUBLISH
BEGIN:VEVENT
DTSTAMP:20260422T002143Z
UID:7-396931@lwfministries.org
DTSTART:20260917T000000Z
DTEND:20260917T010000Z
CLASS:PUBLIC
CREATED:20260421T175126
DESCRIPTION:
LAST-MODIFIED:20260421T175126
LOCATION:
SUMMARY:Wednesday Worship
URL;VALUE=URI:https://www.test.lwfministries.org/events/wednesday-worship/2
 026-09-16
ATTACH;FILENAME=BibleStudy-unsplash_25.jpg;FMTTYPE=image/jpeg:https://dq5pw
 pg1q8ru0.cloudfront.net/2025/06/29/19/04/59/1de01629-5b48-4fb7-95c4-99f863
 7da40a/BibleStudy-unsplash_25.jpg
END:VEVENT
END:VCALENDAR
