BEGIN:VCALENDAR
VERSION:2.0
PRODID:icalendar-ruby
CALSCALE:GREGORIAN
METHOD:PUBLISH
BEGIN:VEVENT
DTSTAMP:20260422T022128Z
UID:24-397424@lwfministries.org
DTSTART:20260924T230000Z
DTEND:20260925T010000Z
CLASS:PUBLIC
CREATED:20260421T202955
DESCRIPTION: \n
LAST-MODIFIED:20260421T202955
LOCATION:
SUMMARY:Thursday Prayer Meeting
URL;VALUE=URI:https://www.test.lwfministries.org/events/thursday-prayer-mee
 ting/2026-09-24
ATTACH;FILENAME=war9.jpg;FMTTYPE=image/jpeg:https://dq5pwpg1q8ru0.cloudfron
 t.net/2026/01/04/17/21/08/f8b1f263-36b8-4dc9-9f72-e2e11a36a894/war9.jpg
END:VEVENT
END:VCALENDAR
