BEGIN:VCALENDAR
VERSION:2.0
PRODID:icalendar-ruby
CALSCALE:GREGORIAN
METHOD:PUBLISH
BEGIN:VEVENT
DTSTAMP:20260420T024517Z
UID:6-392658@lwfministries.org
DTSTART:20261011T153000Z
DTEND:20261011T170000Z
CLASS:PUBLIC
CREATED:20260419T192822
DESCRIPTION: \n
LAST-MODIFIED:20260419T192822
LOCATION:
SUMMARY:Sunday Worship
URL;VALUE=URI:https://www.test.lwfministries.org/events/sunday-worship--6/2
 026-10-11
ATTACH;FILENAME=hands_raised-unsplash_25.jpg;FMTTYPE=image/jpeg:https://dq5
 pwpg1q8ru0.cloudfront.net/2025/06/29/18/50/49/3ff027bb-d5c8-47c2-926f-efc9
 4a0f541d/hands_raised-unsplash_25.jpg
END:VEVENT
END:VCALENDAR
