BEGIN:VCALENDAR
VERSION:2.0
PRODID:icalendar-ruby
CALSCALE:GREGORIAN
METHOD:PUBLISH
BEGIN:VEVENT
DTSTAMP:20260421T145149Z
UID:8-395713@lwfministries.org
DTSTART:20260830T143000Z
DTEND:20260830T153000Z
CLASS:PUBLIC
CREATED:20260421T072130
DESCRIPTION: \n
LAST-MODIFIED:20260421T072130
LOCATION:
SUMMARY:Sunday School
URL;VALUE=URI:https://www.test.lwfministries.org/events/sunday-school/2026-
 08-30
ATTACH;FILENAME=bible_unsplash_25.jpg;FMTTYPE=image/jpeg:https://dq5pwpg1q8
 ru0.cloudfront.net/2025/06/29/18/56/44/16deecd8-a97c-4942-995c-4cb25253c9c
 1/bible_unsplash_25.jpg
END:VEVENT
END:VCALENDAR
